BEGIN:VCALENDAR
VERSION:2.0
PRODID:-//Squarespace Inc/Squarespace 6//v6//EN
BEGIN:VEVENT
UID:5fbefd889b1ed03538c82cb9@squarespace.com
DTSTAMP:20201126T005858Z
DTSTART:20210208T194500Z
DTEND:20210209T021500Z
SUMMARY:Return to Titoki - Start of Term 1
GEO:-36.699528;174.732853
LOCATION:Titoki Montessori School\, 70a Stredwick Drive\, Torbay\, Auckland 
 0742\, New Zealand
END:VEVENT
END:VCALENDAR
