BEGIN:VCALENDAR
VERSION:2.0
PRODID:-//Squarespace Inc/Squarespace 6//v6//EN
BEGIN:VEVENT
UID:5fbefd593c6ccf69f34c29d7@squarespace.com
DTSTAMP:20201126T005728Z
DTSTART:20210218T023000Z
DTEND:20210218T033000Z
SUMMARY:Open Day
GEO:-36.699528;174.732853
LOCATION:Titoki Montessori School\, 70a Stredwick Drive\, Torbay\, Auckland 
 0742\, New Zealand
END:VEVENT
END:VCALENDAR
