BEGIN:VCALENDAR
VERSION:2.0
PRODID:-//Squarespace Inc/Squarespace 6//v6//EN
BEGIN:VEVENT
UID:5f162544636445140cc5ac7d@squarespace.com
DTSTAMP:20200720T231441Z
DTSTART:20200924T204500Z
DTEND:20200925T031500Z
SUMMARY:Term 3 Ends
END:VEVENT
END:VCALENDAR
