BEGIN:VCALENDAR
VERSION:2.0
PRODID:-//Squarespace Inc/Squarespace 6//v6//EN
BEGIN:VEVENT
UID:5f18d7a38a31ee27a1efc5c8@squarespace.com
DTSTAMP:20200723T014917Z
DTSTART:20200911T213000Z
DTEND:20200912T023000Z
SUMMARY:Titoki Working Bee
END:VEVENT
END:VCALENDAR
