BEGIN:VCALENDAR
VERSION:2.0
PRODID:-//Squarespace Inc/Squarespace 6//v6//EN
BEGIN:VEVENT
UID:5f162cdd25d1f57b1136e801@squarespace.com
DTSTAMP:20200721T013711Z
DTSTART:20200825T073000Z
DTEND:20200825T093000Z
SUMMARY:Parent Evening
END:VEVENT
END:VCALENDAR
