BEGIN:VCALENDAR
VERSION:2.0
PRODID:-//Squarespace Inc/Squarespace 6//v6//EN
BEGIN:VEVENT
UID:5f28975dbfb4d21da2cdf17d@squarespace.com
DTSTAMP:20200803T230203Z
DTSTART:20200813T033000Z
DTEND:20200813T043000Z
SUMMARY:Open Day
END:VEVENT
END:VCALENDAR
