BEGIN:VCALENDAR
VERSION:2.0
PRODID:-//Squarespace Inc/Squarespace 6//v6//EN
BEGIN:VEVENT
UID:5ee844e58ae9b41907c0dfb1@squarespace.com
DTSTAMP:20200616T040509Z
DTSTART:20200730T033000Z
DTEND:20200730T043000Z
SUMMARY:Open Day
END:VEVENT
END:VCALENDAR
