BEGIN:VCALENDAR
VERSION:2.0
PRODID:-//Squarespace Inc/Squarespace 6//v6//EN
BEGIN:VEVENT
UID:5f1624fcdea8734e3e3e5f22@squarespace.com
DTSTAMP:20200720T231351Z
DTSTART:20200719T204500Z
DTEND:20200720T031500Z
SUMMARY:Term 3 begins
END:VEVENT
END:VCALENDAR
