BEGIN:VCALENDAR
VERSION:2.0
PRODID:-//Squarespace Inc/Squarespace 6//v6//EN
BEGIN:VEVENT
UID:5d7ed852fef3e33f1bfcb9ef@squarespace.com
DTSTAMP:20190916T003403Z
DTSTART:20200427T120000Z
DTEND:20200428T115900Z
SUMMARY:Term 2 Begins
END:VEVENT
END:VCALENDAR
