BEGIN:VCALENDAR
VERSION:2.0
PRODID:-//Squarespace Inc/Squarespace 6//v6//EN
BEGIN:VEVENT
UID:5d7ed70bde5a2c25a54d2e34@squarespace.com
DTSTAMP:20190916T002843Z
DTSTART:20200426T120000Z
DTEND:20200427T115900Z
SUMMARY:ANZAC Day - Observed public holiday
END:VEVENT
END:VCALENDAR
