BEGIN:VCALENDAR
VERSION:2.0
PRODID:-//Squarespace Inc/Squarespace 6//v6//EN
BEGIN:VEVENT
UID:5e695259caaecf7d1499233b@squarespace.com
DTSTAMP:20200311T210536Z
DTSTART:20200402T023000Z
DTEND:20200402T033000Z
SUMMARY:Open Day
END:VEVENT
END:VCALENDAR
