BEGIN:VCALENDAR
VERSION:2.0
PRODID:-//Squarespace Inc/Squarespace 6//v6//EN
BEGIN:VEVENT
UID:5d7ed7d3478b13088d870db0@squarespace.com
DTSTAMP:20190916T003136Z
DTSTART:20200411T120000Z
DTEND:20200412T115900Z
SUMMARY:Easter Sunday
END:VEVENT
END:VCALENDAR
