BEGIN:VCALENDAR
VERSION:2.0
PRODID:-//Squarespace Inc/Squarespace 6//v6//EN
BEGIN:VEVENT
UID:5d7ed32648ca686605fc5e57@squarespace.com
DTSTAMP:20190916T003020Z
DTSTART:20200408T120000Z
DTEND:20200409T115900Z
SUMMARY:Term 1 Ends
END:VEVENT
END:VCALENDAR
