BEGIN:VCALENDAR
VERSION:2.0
PRODID:-//Squarespace Inc/Squarespace 6//v6//EN
BEGIN:VEVENT
UID:5d7ed7ac7e85cf79ba110200@squarespace.com
DTSTAMP:20190916T003101Z
DTSTART:20200409T120000Z
DTEND:20200410T115900Z
SUMMARY:Good Friday
END:VEVENT
END:VCALENDAR
