BEGIN:VCALENDAR
VERSION:2.0
PRODID:-//Squarespace Inc/Squarespace 6//v6//EN
BEGIN:VEVENT
UID:5ddc51d01344b84afe20e2b8@squarespace.com
DTSTAMP:20191125T221259Z
DTSTART:20200311T023000Z
DTEND:20200311T033000Z
SUMMARY:Open Day
END:VEVENT
END:VCALENDAR
