BEGIN:VCALENDAR
VERSION:2.0
PRODID:-//Squarespace Inc/Squarespace 6//v6//EN
BEGIN:VEVENT
UID:5ded7b727ace79162d368820@squarespace.com
DTSTAMP:20191208T223947Z
DTSTART:20200202T200000Z
DTEND:20200205T000000Z
SUMMARY:Teacher Only Day
END:VEVENT
END:VCALENDAR
