BEGIN:VCALENDAR
VERSION:2.0
PRODID:-//Squarespace Inc/Squarespace 6//v6//EN
BEGIN:VEVENT
UID:5d7ed23ffef3e33f1bfc35eb@squarespace.com
DTSTAMP:20191117T231225Z
DTSTART:20200206T110000Z
DTEND:20200207T105900Z
SUMMARY:Start of Term 1
END:VEVENT
END:VCALENDAR
