BEGIN:VCALENDAR
VERSION:2.0
PRODID:-//Squarespace Inc/Squarespace 6//v6//EN
BEGIN:VEVENT
UID:5fb428f4b6ceec11d05505e6@squarespace.com
DTSTAMP:20201117T194942Z
DTSTART:20210207T120000Z
DTEND:20210207T230000Z
SUMMARY:Waitangi Day - Observed
GEO:-36.699528;174.732853
LOCATION:Titoki Montessori School\, 70a Stredwick Drive\, Torbay\, Auckland 
 0742\, New Zealand
END:VEVENT
END:VCALENDAR
