BEGIN:VCALENDAR
VERSION:2.0
PRODID:-//Squarespace Inc/Squarespace 6//v6//EN
BEGIN:VEVENT
UID:5f84ce9200df3018a2974f31@squarespace.com
DTSTAMP:20201012T214614Z
DTSTART:20201022T023000Z
DTEND:20201022T033000Z
SUMMARY:Open Day
END:VEVENT
END:VCALENDAR
