BEGIN:VCALENDAR
VERSION:2.0
PRODID:-//Squarespace Inc/Squarespace 6//v6//EN
BEGIN:VEVENT
UID:5f16292823a6f1586e96aca1@squarespace.com
DTSTAMP:20200720T233126Z
DTSTART:20201011T110000Z
DTEND:20201012T103000Z
SUMMARY:Term 4 Begins
END:VEVENT
END:VCALENDAR
