BEGIN:VCALENDAR
VERSION:2.0
PRODID:-//Squarespace Inc/Squarespace 6//v6//EN
BEGIN:VEVENT
UID:5d798e9df45ba362409352dc@squarespace.com
DTSTAMP:20190912T001832Z
DTSTART:20190927T003000Z
DTEND:20191013T105900Z
SUMMARY:Term Break
END:VEVENT
END:VCALENDAR
