BEGIN:VCALENDAR
VERSION:2.0
PRODID:-//Squarespace Inc/Squarespace 6//v6//EN
BEGIN:VEVENT
UID:5d7ed396478b13088d86a53e@squarespace.com
DTSTAMP:20190916T001425Z
DTSTART:20200205T110000Z
DTEND:20200206T105900Z
SUMMARY:Waitangi Day
END:VEVENT
END:VCALENDAR
