BEGIN:VCALENDAR
VERSION:2.0
PRODID:-//Squarespace Inc/Squarespace 6//v6//EN
BEGIN:VEVENT
UID:5c60a9b69b747a28407faf02@squarespace.com
DTSTAMP:20190210T224953Z
DTSTART:20190704T204500Z
DTEND:20190705T031500Z
SUMMARY:Term 2 Ends
END:VEVENT
END:VCALENDAR
