BEGIN:VCALENDAR
VERSION:2.0
PRODID:-//Squarespace Inc/Squarespace 6//v6//EN
BEGIN:VEVENT
UID:5c60aaa54192028682e3e524@squarespace.com
DTSTAMP:20190210T225228Z
DTSTART:20190705T120000Z
DTEND:20190721T115900Z
SUMMARY:School Holiday Break
END:VEVENT
END:VCALENDAR
