BEGIN:VCALENDAR
VERSION:2.0
PRODID:-//Squarespace Inc/Squarespace 6//v6//EN
BEGIN:VEVENT
UID:5c85895408522903c3a994ff@squarespace.com
DTSTAMP:20190310T224521Z
DTSTART:20190405T200000Z
DTEND:20190406T010000Z
SUMMARY:Working Bee
END:VEVENT
END:VCALENDAR
