BEGIN:VCALENDAR
VERSION:2.0
PRODID:-//Squarespace Inc/Squarespace 6//v6//EN
BEGIN:VEVENT
UID:5c5b7a894785d3fecc18bfdd@squarespace.com
DTSTAMP:20190207T002419Z
DTSTART:20190428T204500Z
DTEND:20190429T031500Z
SUMMARY:Term 2 Begins
END:VEVENT
END:VCALENDAR
