BEGIN:VCALENDAR
VERSION:2.0
PRODID:-//Squarespace Inc/Squarespace 6//v6//EN
BEGIN:VEVENT
UID:5c5b7baea4222f08b49bc01e@squarespace.com
DTSTAMP:20190207T002858Z
DTSTART:20190420T120000Z
DTEND:20190421T115900Z
SUMMARY:Easter Sunday
END:VEVENT
END:VCALENDAR
