BEGIN:VCALENDAR
VERSION:2.0
PRODID:-//Squarespace Inc/Squarespace 6//v6//EN
BEGIN:VEVENT
UID:5c5b7b72f4e1fc8892994ad2@squarespace.com
DTSTAMP:20190207T002757Z
DTSTART:20190418T120000Z
DTEND:20190419T115900Z
SUMMARY:Good Friday
END:VEVENT
END:VCALENDAR
