BEGIN:VCALENDAR
VERSION:2.0
PRODID:-//Squarespace Inc/Squarespace 6//v6//EN
BEGIN:VEVENT
UID:5c5b7ac86e9a7f7629c46ed7@squarespace.com
DTSTAMP:20190207T002551Z
DTSTART:20190412T120000Z
DTEND:20190428T115900Z
SUMMARY:School Holiday Break
END:VEVENT
END:VCALENDAR
