BEGIN:VCALENDAR
VERSION:2.0
PRODID:-//Squarespace Inc/Squarespace 6//v6//EN
BEGIN:VEVENT
UID:5c5b5ea60d9297385b74a8fe@squarespace.com
DTSTAMP:20190206T222541Z
DTSTART:20190411T204500Z
DTEND:20190412T031500Z
SUMMARY:Term 1 End
END:VEVENT
END:VCALENDAR
