BEGIN:VCALENDAR
VERSION:2.0
PRODID:-//Squarespace Inc/Squarespace 6//v6//EN
BEGIN:VEVENT
UID:5c60c8b9a4222fa3c7e151b0@squarespace.com
DTSTAMP:20190211T005859Z
DTSTART:20190305T230000Z
DTEND:20190305T233000Z
SUMMARY:Lumino Dentists - Oral Hygine Lesson
END:VEVENT
END:VCALENDAR
