BEGIN:VCALENDAR
VERSION:2.0
PRODID:-//Squarespace Inc/Squarespace 6//v6//EN
BEGIN:VEVENT
UID:5c857f997817f7cf02c5d897@squarespace.com
DTSTAMP:20190310T212209Z
DTSTART:20190326T063000Z
DTEND:20190326T080000Z
SUMMARY:Parents Evening
GEO:-36.699952;174.733675
LOCATION:Titoki Montessori
END:VEVENT
END:VCALENDAR
