BEGIN:VCALENDAR
VERSION:2.0
PRODID:-//Squarespace Inc/Squarespace 6//v6//EN
BEGIN:VEVENT
UID:5c5b5e29ee6eb03956d0d446@squarespace.com
DTSTAMP:20190206T222348Z
DTSTART:20190206T194500Z
DTEND:20190207T021500Z
SUMMARY:Term 1 Begins
END:VEVENT
END:VCALENDAR
