BEGIN:VCALENDAR
VERSION:2.0
PRODID:-//Squarespace Inc/Squarespace 6//v6//EN
BEGIN:VEVENT
UID:5d6858783d9ba30001622643@squarespace.com
DTSTAMP:20190912T001216Z
DTSTART:20191022T023000Z
DTEND:20191022T033000Z
SUMMARY:Open Day
END:VEVENT
END:VCALENDAR
