BEGIN:VCALENDAR
VERSION:2.0
PRODID:-//Squarespace Inc/Squarespace 6//v6//EN
BEGIN:VEVENT
UID:5d798efc47be4c56dcf5c974@squarespace.com
DTSTAMP:20190912T001957Z
DTSTART:20191013T110000Z
DTEND:20191014T021500Z
SUMMARY:Term 4 Begins
END:VEVENT
END:VCALENDAR
