BEGIN:VCALENDAR
VERSION:2.0
PRODID:-//Squarespace Inc/Squarespace 6//v6//EN
BEGIN:VEVENT
UID:5aa380e553450a415608dcde@squarespace.com
DTSTAMP:20180310T065342Z
DTSTART:20180904T073000Z
DTEND:20180904T083000Z
SUMMARY:Parent Evening
END:VEVENT
END:VCALENDAR
