BEGIN:VCALENDAR
VERSION:2.0
PRODID:-//Squarespace Inc/Squarespace 6//v6//EN
BEGIN:VEVENT
UID:5aa3810a0d92979ac939fbba@squarespace.com
DTSTAMP:20180310T065434Z
DTSTART:20180914T210000Z
DTEND:20180915T000000Z
SUMMARY:Working Bee
END:VEVENT
END:VCALENDAR
