BEGIN:VCALENDAR
VERSION:2.0
PRODID:-//Squarespace Inc/Squarespace 6//v6//EN
BEGIN:VEVENT
UID:5aa380b9f9619ae04baa7645@squarespace.com
DTSTAMP:20190210T224311Z
DTSTART:20190521T033000Z
DTEND:20190521T040000Z
SUMMARY:Open Day
END:VEVENT
END:VCALENDAR
