BEGIN:VCALENDAR
VERSION:2.0
PRODID:-//Squarespace Inc/Squarespace 6//v6//EN
BEGIN:VEVENT
UID:5aa378c141920255c008e08d@squarespace.com
DTSTAMP:20190210T224357Z
DTSTART:20190813T033000Z
DTEND:20190813T040000Z
SUMMARY:Open Day
END:VEVENT
END:VCALENDAR
