BEGIN:VCALENDAR
VERSION:2.0
PRODID:-//Squarespace Inc/Squarespace 6//v6//EN
BEGIN:VEVENT
UID:5aa37b5c41920255c009147b@squarespace.com
DTSTAMP:20180310T063134Z
DTSTART:20180323T200000Z
DTEND:20180323T230000Z
SUMMARY:Working Bee
END:VEVENT
END:VCALENDAR
