BEGIN:VCALENDAR
VERSION:2.0
PRODID:-//Squarespace Inc/Squarespace 6//v6//EN
BEGIN:VEVENT
UID:5aa3787ff9619ae04ba9d6c2@squarespace.com
DTSTAMP:20180310T062846Z
DTSTART:20180320T063000Z
DTEND:20180320T073000Z
SUMMARY:Parent Evening
END:VEVENT
END:VCALENDAR
