BEGIN:VCALENDAR
VERSION:2.0
PRODID:-//Squarespace Inc/Squarespace 6//v6//EN
BEGIN:VEVENT
UID:56453169e4b0d6787a6bb981@squarespace.com
DTSTAMP:20151113T004045Z
DTSTART:20160923T031500Z
DTEND:20160923T031500Z
SUMMARY:Term 3 Ends
END:VEVENT
END:VCALENDAR
