BEGIN:VCALENDAR
VERSION:2.0
PRODID:-//Squarespace Inc/Squarespace 6//v6//EN
BEGIN:VEVENT
UID:569ee91569a91a10688d31ba@squarespace.com
DTSTAMP:20160120T015551Z
DTSTART:20160810T033000Z
DTEND:20160810T040000Z
SUMMARY:Open House
END:VEVENT
END:VCALENDAR
