BEGIN:VCALENDAR
VERSION:2.0
PRODID:-//Squarespace Inc/Squarespace 6//v6//EN
BEGIN:VEVENT
UID:56453103e4b034f10770c99a@squarespace.com
DTSTAMP:20151113T003855Z
DTSTART:20160708T031500Z
DTEND:20160708T031500Z
SUMMARY:Term 2 Ends
END:VEVENT
END:VCALENDAR
