BEGIN:VCALENDAR
VERSION:2.0
PRODID:-//Squarespace Inc/Squarespace 6//v6//EN
BEGIN:VEVENT
UID:5788b596be6594c1b79fb7fb@squarespace.com
DTSTAMP:20160715T101301Z
DTSTART:20160725T211500Z
DTEND:20160725T221500Z
SUMMARY:Tots play group starts
GEO:-36.694159;174.728994
LOCATION:Long Bay Baptist Church\, 282 Glenvar Road\, Auckland\, Auckland\, 
 0630\, New Zealand
END:VEVENT
END:VCALENDAR
