BEGIN:VCALENDAR
VERSION:2.0
PRODID:-//Squarespace Inc/Squarespace 6//v6//EN
BEGIN:VEVENT
UID:5645313be4b0dd8e62e28cc8@squarespace.com
DTSTAMP:20151113T003948Z
DTSTART:20160724T204500Z
DTEND:20160724T204500Z
SUMMARY:Term 3 Starts
END:VEVENT
END:VCALENDAR
