BEGIN:VCALENDAR
VERSION:2.0
PRODID:-//Squarespace Inc/Squarespace 6//v6//EN
BEGIN:VEVENT
UID:569ee683cbced6e361dcc10d@squarespace.com
DTSTAMP:20160120T014501Z
DTSTART:20160605T120000Z
DTEND:20160606T115900Z
SUMMARY:Queen's Birthday
END:VEVENT
END:VCALENDAR
