BEGIN:VCALENDAR
VERSION:2.0
PRODID:-//Squarespace Inc/Squarespace 6//v6//EN
BEGIN:VEVENT
UID:5645305ee4b0d6787a6bb0f6@squarespace.com
DTSTAMP:20151113T003803Z
DTSTART:20160501T204500Z
DTEND:20160501T204500Z
SUMMARY:Term 2 Starts
END:VEVENT
END:VCALENDAR
