BEGIN:VCALENDAR
VERSION:2.0
PRODID:-//Squarespace Inc/Squarespace 6//v6//EN
BEGIN:VEVENT
UID:569ee88f57eb8d8d43a49572@squarespace.com
DTSTAMP:20160120T015435Z
DTSTART:20160518T033000Z
DTEND:20160518T040000Z
SUMMARY:Open House
END:VEVENT
END:VCALENDAR
