BEGIN:VCALENDAR
VERSION:2.0
PRODID:-//Squarespace Inc/Squarespace 6//v6//EN
BEGIN:VEVENT
UID:569ee63d1a5203d45fe01888@squarespace.com
DTSTAMP:20160120T014357Z
DTSTART:20160424T120000Z
DTEND:20160425T115900Z
SUMMARY:ANZAC Day
END:VEVENT
END:VCALENDAR
